{"text_format":"1","workbook":"xlsx","n_sheets":13,"sheets":["H31.3","H31.2","H31.1","H30.12","H30.11","H30.10","H30.9","H30.8","H30.7","H30.6","H30.5","H30.4","H30.3"],"not_rendered":{"charts":0,"images":0,"macros":1,"external_links":0,"defined_names":0,"comments":0,"pivot_tables":0},"unopened":[],"bounds":{"document_bytes":16777216,"sheet_cells":100000,"rows_first":2000,"rows_last":500,"rows_between":2000,"halvings":0,"cell_chars":16384,"cell_head_chars":4096},"cells_cut":0,"cells_raw":0,"read":"whole","date_system":"1900"}

{"sheet":"H31.3","index":0,"n_rows":49,"n_cols":8,"rows_kept":49,"cut":false,"hidden":false,"merged":[[47,6,47,7],[5,1,10,1],[11,1,24,1],[25,1,28,1],[29,1,45,1],[47,2,47,3],[47,4,47,5],[0,1,0,7],[3,1,4,1],[3,2,4,2],[3,3,4,3],[3,4,3,6],[3,7,4,7]]}
[null,"行政区別の世帯数と人口"]
[null,null,null,null,null,null,"(平成31年3月末日現在)"]
[]
[null,"校区","区名","世帯数","人口",null,null,"65歳以上の\n割合（％）"]
[null,null,null,null,"男","女","全体"]
[null,"腹赤","平原",314,333,331,{"$f":"SUM(E6:F6)","v":664},33.4]
[null,null,"清源寺",665,766,656,{"$f":"SUM(E7:F7)","v":1422},31.9]
[null,null,"上沖洲",433,395,414,809,32]
[null,null,"腹赤",364,439,483,922,27.3]
[null,null,"腹赤新町",89,103,99,202,45]
[null,null,"校区合計",{"$f":"SUM(D6:D10)","v":1865},{"$f":"SUM(E6:E10)","v":2036},{"$f":"SUM(F6:F10)","v":1983},{"$f":"SUM(G6:G10)","v":4019},31.8]
[null,"六栄","折地",206,223,258,{"$f":"SUM(E12:F12)","v":481},39.299999999999997]
[null,null,"赤崎",123,160,158,{"$f":"SUM(E13:F13)","v":318},38.700000000000003]
[null,null,"高田",59,75,88,163,27]
[null,null,"鷲巣",221,250,252,502,36.700000000000003]
[null,null,"立野",172,177,178,355,39.200000000000003]
[null,null,"向野",398,472,482,954,34.299999999999997]
[null,null,"宮崎",161,182,200,382,36.9]
[null,null,"赤田",98,103,125,228,37.700000000000003]
[null,null,"葛輪",74,78,96,174,49.4]
[null,null,"永方",106,99,141,240,42.1]
[null,null,"塩屋",96,92,112,204,45.1]
[null,null,"向野北",281,323,118,441,0.2]
[null,null,"古城",273,330,347,677,29.4]
[null,null,"校区合計",{"$f":"SUM(D12:D24)","v":2268},{"$f":"SUM(E12:E24)","v":2564},{"$f":"SUM(F12:F24)","v":2555},{"$f":"SUM(G12:G24)","v":5119},33.4]
[null,"清里","建浜",307,387,406,{"$f":"SUM(E26:F26)","v":793},33.299999999999997]
[null,null,"駅通",145,169,166,{"$f":"SUM(E27:F27)","v":335},30.4]
[null,null,"梅田",266,293,326,619,38.6]
[null,null,"校区合計",{"$f":"SUM(D26:D28)","v":718},{"$f":"SUM(E26:E28)","v":849},{"$f":"SUM(F26:F28)","v":898},{"$f":"SUM(G26:G28)","v":1747},34.6]
[null,"長洲","出町",208,225,241,{"$f":"SUM(E30:F30)","v":466},36.9]
[null,null,"新町",150,167,171,{"$f":"SUM(E31:F31)","v":338},37.6]
[null,null,"西新町",37,27,36,63,65.099999999999994]
[null,null,"宮ノ町",138,159,156,315,33.299999999999997]
[null,null,"松原",108,113,109,222,43.2]
[null,null,"新山",290,282,338,620,42.7]
[null,null,"宝町",143,125,138,263,46.4]
[null,null,"磯町",111,95,116,211,46]
[null,null,"上町",69,73,81,154,44.2]
[null,null,"中町",58,59,66,125,45.6]
[null,null,"下本",42,32,53,85,57.6]
[null,null,"今町",48,49,69,118,44.1]
[null,null,"下東",257,294,303,597,28.3]
[null,null,"西荒神",65,80,70,150,42]
[null,null,"東荒神",354,387,437,824,29.2]
[null,null,"大明神",282,310,302,612,33.299999999999997]
[null,null,"校区合計",{"$f":"SUM(D30:D45)","v":2360},{"$f":"SUM(E30:E45)","v":2477},{"$f":"SUM(F30:F45)","v":2686},{"$f":"SUM(G30:G45)","v":5163},37.299999999999997]
[]
[null,"全体",{"$f":"D11+D25+D29+D46","v":7211},null,16048,null,0.34399999999999997]
[null,null,null,"（世帯数）",null,"（人口）",null,"（65歳以上の割合）"]

{"sheet":"H31.2","index":1,"n_rows":49,"n_cols":8,"rows_kept":49,"cut":false,"hidden":false,"merged":[[0,1,0,7],[3,1,4,1],[3,2,4,2],[3,3,4,3],[3,4,3,6],[3,7,4,7],[47,6,47,7],[5,1,10,1],[11,1,24,1],[25,1,28,1],[29,1,45,1],[47,2,47,3],[47,4,47,5]]}
[null,"行政区別の世帯数と人口"]
[null,null,null,null,null,null,"(平成31年2月末日現在)"]
[]
[null,"校区","区名","世帯数","人口",null,null,"65歳以上の\n割合（％）"]
[null,null,null,null,"男","女","全体"]
[null,"腹赤","平原",309,332,327,{"$f":"SUM(E6:F6)","v":659},33.200000000000003]
[null,null,"清源寺",667,771,663,{"$f":"SUM(E7:F7)","v":1434},31.5]
[null,null,"上沖洲",433,398,415,813,32]
[null,null,"腹赤",360,441,483,924,27.1]
[null,null,"腹赤新町",84,100,99,199,45.7]
[null,null,"校区合計",{"$f":"SUM(D6:D10)","v":1853},{"$f":"SUM(E6:E10)","v":2042},{"$f":"SUM(F6:F10)","v":1987},{"$f":"SUM(G6:G10)","v":4029},31.6]
[null,"六栄","折地",201,219,259,{"$f":"SUM(E12:F12)","v":478},39.5]
[null,null,"赤崎",123,162,160,{"$f":"SUM(E13:F13)","v":322},38.5]
[null,null,"高田",59,75,88,163,25.8]
[null,null,"鷲巣",220,251,252,503,36.4]
[null,null,"立野",173,177,178,355,38.9]
[null,null,"向野",402,476,487,963,33.6]
[null,null,"宮崎",160,180,194,374,38]
[null,null,"赤田",98,102,125,227,37.9]
[null,null,"葛輪",74,78,96,174,49.4]
[null,null,"永方",105,98,141,239,41.4]
[null,null,"塩屋",96,93,112,205,44.9]
[null,null,"向野北",280,322,118,440,0.2]
[null,null,"古城",271,331,344,675,29.2]
[null,null,"校区合計",{"$f":"SUM(D12:D24)","v":2262},{"$f":"SUM(E12:E24)","v":2564},{"$f":"SUM(F12:F24)","v":2554},{"$f":"SUM(G12:G24)","v":5118},33.299999999999997]
[null,"清里","建浜",304,383,402,{"$f":"SUM(E26:F26)","v":785},33.6]
[null,null,"駅通",146,169,167,{"$f":"SUM(E27:F27)","v":336},30.7]
[null,null,"梅田",266,291,325,616,38.799999999999997]
[null,null,"校区合計",{"$f":"SUM(D26:D28)","v":716},{"$f":"SUM(E26:E28)","v":843},{"$f":"SUM(F26:F28)","v":894},{"$f":"SUM(G26:G28)","v":1737},34.9]
[null,"長洲","出町",211,228,243,{"$f":"SUM(E30:F30)","v":471},36.700000000000003]
[null,null,"新町",150,169,171,{"$f":"SUM(E31:F31)","v":340},37.1]
[null,null,"西新町",37,28,36,64,64.099999999999994]
[null,null,"宮ノ町",137,159,153,312,33.700000000000003]
[null,null,"松原",108,112,112,224,42.9]
[null,null,"新山",290,285,339,624,42.3]
[null,null,"宝町",144,126,140,266,45.9]
[null,null,"磯町",111,95,116,211,46]
[null,null,"上町",68,73,78,151,45]
[null,null,"中町",57,58,66,124,44.4]
[null,null,"下本",42,33,54,87,56.3]
[null,null,"今町",48,49,69,118,44.1]
[null,null,"下東",256,293,308,601,28]
[null,null,"西荒神",63,76,67,143,44.1]
[null,null,"東荒神",351,387,437,824,29]
[null,null,"大明神",283,312,305,617,32.9]
[null,null,"校区合計",{"$f":"SUM(D30:D45)","v":2356},{"$f":"SUM(E30:E45)","v":2483},{"$f":"SUM(F30:F45)","v":2694},{"$f":"SUM(G30:G45)","v":5177},37.1]
[]
[null,"全体",{"$f":"D11+D25+D29+D46","v":7187},null,{"$f":"G11++G25+G29+G46","v":16061},null,0.34300000000000003]
[null,null,null,"（世帯数）",null,"（人口）",null,"（65歳以上の割合）"]

{"sheet":"H31.1","index":2,"n_rows":49,"n_cols":8,"rows_kept":49,"cut":false,"hidden":false,"merged":[[0,1,0,7],[5,1,10,1],[11,1,24,1],[25,1,28,1],[29,1,45,1],[47,2,47,3],[47,4,47,5],[47,6,47,7],[3,1,4,1],[3,2,4,2],[3,3,4,3],[3,4,3,6],[3,7,4,7]]}
[null,"行政区別の世帯数と人口"]
[null,null,null,null,null,null,"(平成31年1月末日現在)"]
[]
[null,"校区","区名","世帯数","人口",null,null,"65歳以上の\n割合（％）"]
[null,null,null,null,"男","女","全体"]
[null,"腹赤","平原",309,333,325,{"$f":"SUM(E6:F6)","v":658},33.299999999999997]
[null,null,"清源寺",668,772,664,{"$f":"SUM(E7:F7)","v":1436},31.3]
[null,null,"上沖洲",434,399,415,814,31.9]
[null,null,"腹赤",358,439,481,920,27.2]
[null,null,"腹赤新町",85,100,100,200,46]
[null,null,"校区合計",{"$f":"SUM(D6:D10)","v":1854},{"$f":"SUM(E6:E10)","v":2043},{"$f":"SUM(F6:F10)","v":1985},{"$f":"SUM(G6:G10)","v":4028},31.6]
[null,"六栄","折地",201,219,258,{"$f":"SUM(E12:F12)","v":477},39.4]
[null,null,"赤崎",122,161,160,{"$f":"SUM(E13:F13)","v":321},38.299999999999997]
[null,null,"高田",57,73,88,161,26.1]
[null,null,"鷲巣",221,252,253,505,36]
[null,null,"立野",173,178,181,359,37.9]
[null,null,"向野",397,472,484,956,33.700000000000003]
[null,null,"宮崎",157,179,194,373,37.799999999999997]
[null,null,"赤田",98,102,125,227,37.9]
[null,null,"葛輪",74,78,96,174,48.9]
[null,null,"永方",105,99,141,240,40.4]
[null,null,"塩屋",94,93,110,203,45.3]
[null,null,"向野北",257,300,116,416,0]
[null,null,"古城",271,332,345,677,29.4]
[null,null,"校区合計",{"$f":"SUM(D12:D24)","v":2227},{"$f":"SUM(E12:E24)","v":2538},{"$f":"SUM(F12:F24)","v":2551},{"$f":"SUM(G12:G24)","v":5089},33.299999999999997]
[null,"清里","建浜",303,382,402,{"$f":"SUM(E26:F26)","v":784},33.4]
[null,null,"駅通",146,170,166,{"$f":"SUM(E27:F27)","v":336},31]
[null,null,"梅田",267,292,326,618,38.299999999999997]
[null,null,"校区合計",{"$f":"SUM(D26:D28)","v":716},{"$f":"SUM(E26:E28)","v":844},{"$f":"SUM(F26:F28)","v":894},{"$f":"SUM(G26:G28)","v":1738},34.700000000000003]
[null,"長洲","出町",213,231,244,{"$f":"SUM(E30:F30)","v":475},36.200000000000003]
[null,null,"新町",153,170,176,{"$f":"SUM(E31:F31)","v":346},36.700000000000003]
[null,null,"西新町",37,28,36,64,64.099999999999994]
[null,null,"宮ノ町",137,160,153,313,33.5]
[null,null,"松原",108,112,112,224,42.4]
[null,null,"新山",291,289,342,631,42]
[null,null,"宝町",144,129,141,270,44.8]
[null,null,"磯町",112,96,116,212,46.2]
[null,null,"上町",69,74,79,153,44.4]
[null,null,"中町",57,58,66,124,44.4]
[null,null,"下本",43,34,54,88,55.7]
[null,null,"今町",48,49,69,118,44.1]
[null,null,"下東",255,294,308,602,27.9]
[null,null,"西荒神",63,76,67,143,44.1]
[null,null,"東荒神",360,398,439,837,28.7]
[null,null,"大明神",285,317,306,623,32.4]
[null,null,"校区合計",{"$f":"SUM(D30:D45)","v":2375},{"$f":"SUM(E30:E45)","v":2515},{"$f":"SUM(F30:F45)","v":2708},{"$f":"SUM(G30:G45)","v":5223},36.799999999999997]
[]
[null,"全体",7172,null,16078,null,0.34100000000000003]
[null,null,null,"（世帯数）",null,"（人口）",null,"（65歳以上の割合）"]

{"sheet":"H30.12","index":3,"n_rows":48,"n_cols":8,"rows_kept":48,"cut":false,"hidden":false,"merged":[[46,2,46,3],[46,4,46,5],[46,6,46,7],[0,1,0,7],[4,1,9,1],[10,1,23,1],[24,1,27,1],[28,1,44,1]]}
[null,"行政区別の世帯数と人口"]
[null,null,null,null,null,null,"(平成30年12月末日現在)"]
[]
[null,"校区","区名","世帯数","前月比（世帯）","人口","前月比（人）","高齢化率（％）"]
[null,"腹赤","平原",311,{"$f":"D5-'H30.11'!D5","v":-3},660,{"$f":"F5-'H30.11'!F5","v":-12},33.299999999999997]
[null,null,"清源寺",673,{"$f":"D6-'H30.11'!D6","v":-8},1444,{"$f":"F6-'H30.11'!F6","v":-7},31.2]
[null,null,"上沖洲",434,{"$f":"D7-'H30.11'!D7","v":1},817,{"$f":"F7-'H30.11'!F7","v":-2},31.9]
[null,null,"腹赤",360,{"$f":"D8-'H30.11'!D8","v":0},923,{"$f":"F8-'H30.11'!F8","v":-1},27.1]
[null,null,"腹赤新町",85,{"$f":"D9-'H30.11'!D9","v":0},200,{"$f":"F9-'H30.11'!F9","v":-1},46]
[null,null,"校区合計",{"$f":"SUM(D5:D9)","v":1863},{"$f":"D10-'H30.11'!D10","v":-10},{"$f":"SUM(F5:F9)","v":4044},{"$f":"F10-'H30.11'!F10","v":-23},31.5]
[null,"六栄","折地",201,{"$f":"D11-'H30.11'!D11","v":1},478,{"$f":"F11-'H30.11'!F11","v":3},39.299999999999997]
[null,null,"赤崎",121,{"$f":"D12-'H30.11'!D12","v":0},320,{"$f":"F12-'H30.11'!F12","v":0},38.4]
[null,null,"高田",57,{"$f":"D13-'H30.11'!D13","v":0},161,{"$f":"F13-'H30.11'!F13","v":0},26.7]
[null,null,"鷲巣",218,{"$f":"D14-'H30.11'!D14","v":-2},502,{"$f":"F14-'H30.11'!F14","v":-5},36.1]
[null,null,"立野",177,{"$f":"D15-'H30.11'!D15","v":0},363,{"$f":"F15-'H30.11'!F15","v":-1},38]
[null,null,"向野",396,{"$f":"D16-'H30.11'!D16","v":3},956,{"$f":"F16-'H30.11'!F16","v":5},33.6]
[null,null,"宮崎",156,{"$f":"D17-'H30.11'!D17","v":0},372,{"$f":"F17-'H30.11'!F17","v":-2},37.6]
[null,null,"赤田",97,{"$f":"D18-'H30.11'!D18","v":1},226,{"$f":"F18-'H30.11'!F18","v":0},37.6]
[null,null,"葛輪",74,{"$f":"D19-'H30.11'!D19","v":0},176,{"$f":"F19-'H30.11'!F19","v":0},48.3]
[null,null,"永方",104,{"$f":"D20-'H30.11'!D20","v":0},238,{"$f":"F20-'H30.11'!F20","v":0},40.799999999999997]
[null,null,"塩屋",93,{"$f":"D21-'H30.11'!D21","v":-2},203,{"$f":"F21-'H30.11'!F21","v":-3},45.8]
[null,null,"向野北",264,{"$f":"D22-'H30.11'!D22","v":3},421,{"$f":"F22-'H30.11'!F22","v":9},0]
[null,null,"古城",272,{"$f":"D23-'H30.11'!D23","v":0},679,{"$f":"F23-'H30.11'!F23","v":1},29.2]
[null,null,"校区合計",{"$f":"SUM(D11:D23)","v":2230},{"$f":"D24-'H30.11'!D24","v":4},{"$f":"SUM(F11:F23)","v":5095},{"$f":"F24-'H30.11'!F24","v":7},33.200000000000003]
[null,"清里","建浜",304,{"$f":"D25-'H30.11'!D25","v":-1},779,{"$f":"F25-'H30.11'!F25","v":-4},33.799999999999997]
[null,null,"駅通",147,{"$f":"D26-'H30.11'!D26","v":-1},337,{"$f":"F26-'H30.11'!F26","v":-2},31.5]
[null,null,"梅田",269,{"$f":"D27-'H30.11'!D27","v":3},622,{"$f":"F27-'H30.11'!F27","v":5},38.6]
[null,null,"校区合計",{"$f":"SUM(D25:D27)","v":720},{"$f":"D28-'H30.11'!D28","v":1},{"$f":"SUM(F25:F27)","v":1738},{"$f":"F28-'H30.11'!F28","v":-1},35]
[null,"長洲","出町",214,{"$f":"D29-'H30.11'!D29","v":-1},481,{"$f":"F29-'H30.11'!F29","v":-1},35.6]
[null,null,"新町",152,{"$f":"D30-'H30.11'!D30","v":-2},344,{"$f":"F30-'H30.11'!F30","v":-3},36.299999999999997]
[null,null,"西新町",36,{"$f":"D31-'H30.11'!D31","v":0},63,{"$f":"F31-'H30.11'!F31","v":0},65.099999999999994]
[null,null,"宮ノ町",138,{"$f":"D32-'H30.11'!D32","v":1},314,{"$f":"F32-'H30.11'!F32","v":1},33.4]
[null,null,"松原",108,{"$f":"D33-'H30.11'!D33","v":0},225,{"$f":"F33-'H30.11'!F33","v":1},42.2]
[null,null,"新山",295,{"$f":"D34-'H30.11'!D34","v":-1},634,{"$f":"F34-'H30.11'!F34","v":-1},41.8]
[null,null,"宝町",144,{"$f":"D35-'H30.11'!D35","v":1},271,{"$f":"F35-'H30.11'!F35","v":1},44.3]
[null,null,"磯町",113,{"$f":"D36-'H30.11'!D36","v":0},213,{"$f":"F36-'H30.11'!F36","v":0},46]
[null,null,"上町",70,{"$f":"D37-'H30.11'!D37","v":-1},154,{"$f":"F37-'H30.11'!F37","v":-1},43.5]
[null,null,"中町",57,{"$f":"D38-'H30.11'!D38","v":0},125,{"$f":"F38-'H30.11'!F38","v":0},44.8]
[null,null,"下本",43,{"$f":"D39-'H30.11'!D39","v":0},88,{"$f":"F39-'H30.11'!F39","v":-1},55.7]
[null,null,"今町",48,{"$f":"D40-'H30.11'!D40","v":0},118,{"$f":"F40-'H30.11'!F40","v":0},44.1]
[null,null,"下東",255,{"$f":"D41-'H30.11'!D41","v":2},605,{"$f":"F41-'H30.11'!F41","v":1},27.6]
[null,null,"西荒神",61,{"$f":"D42-'H30.11'!D42","v":0},140,{"$f":"F42-'H30.11'!F42","v":-1},45]
[null,null,"東荒神",353,{"$f":"D43-'H30.11'!D43","v":-4},830,{"$f":"F43-'H30.11'!F43","v":-2},28.8]
[null,null,"大明神",284,{"$f":"D44-'H30.11'!D44","v":0},623,{"$f":"F44-'H30.11'!F44","v":1},32.299999999999997]
[null,null,"校区合計",{"$f":"SUM(D29:D44)","v":2371},{"$f":"D45-'H30.11'!D45","v":-5},{"$f":"SUM(F29:F44)","v":5228},{"$f":"F45-'H30.11'!F45","v":-5},36.6]
[]
[null,"全体",7184,null,16105,null,0.34100000000000003]
[null,null,null,"（世帯数）",null,"（人口）",null,"（高齢化率）"]

{"sheet":"H30.11","index":4,"n_rows":48,"n_cols":8,"rows_kept":48,"cut":false,"hidden":false,"merged":[[46,2,46,3],[46,4,46,5],[46,6,46,7],[0,1,0,7],[4,1,9,1],[10,1,23,1],[24,1,27,1],[28,1,44,1]]}
[null,"行政区別の世帯数と人口"]
[null,null,null,null,null,null,"(平成30年11月末日現在)"]
[]
[null,"校区","区名","世帯数","前月比（世帯）","人口","前月比（人）","高齢化率（％）"]
[null,"腹赤","平原",314,{"$f":"D5-'H30.10'!D5","v":0},672,{"$f":"F5-'H30.10'!F5","v":2},33.299999999999997]
[null,null,"清源寺",681,{"$f":"D6-'H30.10'!D6","v":-3},1451,{"$f":"F6-'H30.10'!F6","v":-2},30.7]
[null,null,"上沖洲",433,{"$f":"D7-'H30.10'!D7","v":1},819,{"$f":"F7-'H30.10'!F7","v":-1},32.1]
[null,null,"腹赤",360,{"$f":"D8-'H30.10'!D8","v":7},924,{"$f":"F8-'H30.10'!F8","v":9},27.2]
[null,null,"腹赤新町",85,{"$f":"D9-'H30.10'!D9","v":-1},201,{"$f":"F9-'H30.10'!F9","v":-3},44.8]
[null,null,"校区合計",{"$f":"SUM(D5:D9)","v":1873},{"$f":"D10-'H30.10'!D10","v":4},{"$f":"SUM(F5:F9)","v":4067},{"$f":"F10-'H30.10'!F10","v":5},31.3]
[null,"六栄","折地",200,{"$f":"D11-'H30.10'!D11","v":0},475,{"$f":"F11-'H30.10'!F11","v":4},39.4]
[null,null,"赤崎",121,{"$f":"D12-'H30.10'!D12","v":0},320,{"$f":"F12-'H30.10'!F12","v":0},38.4]
[null,null,"高田",57,{"$f":"D13-'H30.10'!D13","v":1},161,{"$f":"F13-'H30.10'!F13","v":0},26.1]
[null,null,"鷲巣",220,{"$f":"D14-'H30.10'!D14","v":-1},507,{"$f":"F14-'H30.10'!F14","v":-5},35.700000000000003]
[null,null,"立野",177,{"$f":"D15-'H30.10'!D15","v":0},364,{"$f":"F15-'H30.10'!F15","v":-1},37.1]
[null,null,"向野",393,{"$f":"D16-'H30.10'!D16","v":-2},951,{"$f":"F16-'H30.10'!F16","v":-6},33.799999999999997]
[null,null,"宮崎",156,{"$f":"D17-'H30.10'!D17","v":1},374,{"$f":"F17-'H30.10'!F17","v":-4},37.200000000000003]
[null,null,"赤田",96,{"$f":"D18-'H30.10'!D18","v":1},226,{"$f":"F18-'H30.10'!F18","v":2},37.6]
[null,null,"葛輪",74,{"$f":"D19-'H30.10'!D19","v":0},176,{"$f":"F19-'H30.10'!F19","v":0},48.9]
[null,null,"永方",104,{"$f":"D20-'H30.10'!D20","v":1},238,{"$f":"F20-'H30.10'!F20","v":0},40.799999999999997]
[null,null,"塩屋",95,{"$f":"D21-'H30.10'!D21","v":1},206,{"$f":"F21-'H30.10'!F21","v":-1},45.6]
[null,null,"向野北",261,{"$f":"D22-'H30.10'!D22","v":0},412,{"$f":"F22-'H30.10'!F22","v":-2},0]
[null,null,"古城",272,{"$f":"D23-'H30.10'!D23","v":2},678,{"$f":"F23-'H30.10'!F23","v":5},29.2]
[null,null,"校区合計",{"$f":"SUM(D11:D23)","v":2226},{"$f":"D24-'H30.10'!D24","v":4},{"$f":"SUM(F11:F23)","v":5088},{"$f":"F24-'H30.10'!F24","v":-8},33.200000000000003]
[null,"清里","建浜",305,{"$f":"D25-'H30.10'!D25","v":0},783,{"$f":"F25-'H30.10'!F25","v":-1},33.299999999999997]
[null,null,"駅通",148,{"$f":"D26-'H30.10'!D26","v":-1},339,{"$f":"F26-'H30.10'!F26","v":-1},31]
[null,null,"梅田",266,{"$f":"D27-'H30.10'!D27","v":1},617,{"$f":"F27-'H30.10'!F27","v":5},38.9]
[null,null,"校区合計",{"$f":"SUM(D25:D27)","v":719},{"$f":"D28-'H30.10'!D28","v":0},{"$f":"SUM(F25:F27)","v":1739},{"$f":"F28-'H30.10'!F28","v":3},34.799999999999997]
[null,"長洲","出町",215,{"$f":"D29-'H30.10'!D29","v":0},482,{"$f":"F29-'H30.10'!F29","v":0},35.700000000000003]
[null,null,"新町",154,{"$f":"D30-'H30.10'!D30","v":0},347,{"$f":"F30-'H30.10'!F30","v":-1},36.299999999999997]
[null,null,"西新町",36,{"$f":"D31-'H30.10'!D31","v":0},63,{"$f":"F31-'H30.10'!F31","v":0},65.099999999999994]
[null,null,"宮ノ町",137,{"$f":"D32-'H30.10'!D32","v":-1},313,{"$f":"F32-'H30.10'!F32","v":-1},32.6]
[null,null,"松原",108,{"$f":"D33-'H30.10'!D33","v":1},224,{"$f":"F33-'H30.10'!F33","v":1},42]
[null,null,"新山",296,{"$f":"D34-'H30.10'!D34","v":1},635,{"$f":"F34-'H30.10'!F34","v":-4},41.9]
[null,null,"宝町",143,{"$f":"D35-'H30.10'!D35","v":1},270,{"$f":"F35-'H30.10'!F35","v":3},44.4]
[null,null,"磯町",113,{"$f":"D36-'H30.10'!D36","v":-1},213,{"$f":"F36-'H30.10'!F36","v":-2},45.5]
[null,null,"上町",71,{"$f":"D37-'H30.10'!D37","v":0},155,{"$f":"F37-'H30.10'!F37","v":0},43.9]
[null,null,"中町",57,{"$f":"D38-'H30.10'!D38","v":1},125,{"$f":"F38-'H30.10'!F38","v":0},44.8]
[null,null,"下本",43,{"$f":"D39-'H30.10'!D39","v":-4},89,{"$f":"F39-'H30.10'!F39","v":0},56.2]
[null,null,"今町",48,{"$f":"D40-'H30.10'!D40","v":1},118,{"$f":"F40-'H30.10'!F40","v":4},44.1]
[null,null,"下東",253,{"$f":"D41-'H30.10'!D41","v":0},604,{"$f":"F41-'H30.10'!F41","v":-1},27.6]
[null,null,"西荒神",61,{"$f":"D42-'H30.10'!D42","v":0},141,{"$f":"F42-'H30.10'!F42","v":0},44.7]
[null,null,"東荒神",357,{"$f":"D43-'H30.10'!D43","v":-3},832,{"$f":"F43-'H30.10'!F43","v":1},28.7]
[null,null,"大明神",284,{"$f":"D44-'H30.10'!D44","v":3},622,{"$f":"F44-'H30.10'!F44","v":2},32.299999999999997]
[null,null,"校区合計",{"$f":"SUM(D29:D44)","v":2376},{"$f":"D45-'H30.10'!D45","v":-1},{"$f":"SUM(F29:F44)","v":5233},{"$f":"F45-'H30.10'!F45","v":2},36.6]
[]
[null,"全体",7194,null,16127,null,34]
[null,null,null,"（世帯数）",null,"（人口）",null,"（高齢化率）"]

{"sheet":"H30.10","index":5,"n_rows":48,"n_cols":8,"rows_kept":48,"cut":false,"hidden":false,"merged":[[46,2,46,3],[46,4,46,5],[46,6,46,7],[0,1,0,7],[4,1,9,1],[10,1,23,1],[24,1,27,1],[28,1,44,1]]}
[null,"行政区別の世帯数と人口"]
[null,null,null,null,null,null,"(平成30年10月末日現在)"]
[]
[null,"校区","区名","世帯数","前月比（世帯）","人口","前月比（人）","高齢化率（％）"]
[null,"腹赤","平原",314,{"$f":"D5-'H30.9'!D5","v":2},670,{"$f":"F5-'H30.9'!F5","v":2},33.4]
[null,null,"清源寺",684,{"$f":"D6-'H30.9'!D6","v":-5},1453,{"$f":"F6-'H30.9'!F6","v":-2},30.6]
[null,null,"上沖洲",432,{"$f":"D7-'H30.7'!D7","v":31},820,{"$f":"F7-'H30.9'!F7","v":4},32.1]
[null,null,"腹赤",353,{"$f":"D8-'H30.7'!D8","v":5},915,{"$f":"F8-'H30.9'!F8","v":5},27.4]
[null,null,"腹赤新町",86,{"$f":"D9-'H30.7'!D9","v":-2},204,{"$f":"F9-'H30.9'!F9","v":-1},44.6]
[null,null,"校区合計",{"$f":"SUM(D5:D9)","v":1869},{"$f":"D10-'H30.9'!D10","v":3},{"$f":"SUM(F5:F9)","v":4062},{"$f":"F10-'H30.9'!F10","v":8},31.4]
[null,"六栄","折地",200,{"$f":"D11-'H30.9'!D11","v":0},471,{"$f":"F11-'H30.9'!F11","v":-2},39.700000000000003]
[null,null,"赤崎",121,{"$f":"D12-'H30.9'!D12","v":-1},320,{"$f":"F12-'H30.9'!F12","v":0},38.4]
[null,null,"高田",56,{"$f":"D13-'H30.9'!D13","v":0},161,{"$f":"F13-'H30.9'!F13","v":0},26.1]
[null,null,"鷲巣",221,{"$f":"D14-'H30.9'!D14","v":-1},512,{"$f":"F14-'H30.9'!F14","v":-5},35.200000000000003]
[null,null,"立野",177,{"$f":"D15-'H30.9'!D15","v":1},365,{"$f":"F15-'H30.9'!F15","v":3},37.299999999999997]
[null,null,"向野",395,{"$f":"D16-'H30.9'!D16","v":2},957,{"$f":"F16-'H30.9'!F16","v":7},33.4]
[null,null,"宮崎",155,{"$f":"D17-'H30.9'!D17","v":-2},378,{"$f":"F17-'H30.9'!F17","v":-2},36.799999999999997]
[null,null,"赤田",95,{"$f":"D18-'H30.9'!D18","v":0},224,{"$f":"F18-'H30.9'!F18","v":0},37.5]
[null,null,"葛輪",74,{"$f":"D19-'H30.9'!D19","v":0},176,{"$f":"F19-'H30.9'!F19","v":0},48.3]
[null,null,"永方",103,{"$f":"D20-'H30.9'!D20","v":0},238,{"$f":"F20-'H30.9'!F20","v":0},40.799999999999997]
[null,null,"塩屋",94,{"$f":"D21-'H30.9'!D21","v":0},207,{"$f":"F21-'H30.9'!F21","v":-1},45.4]
[null,null,"向野北",261,{"$f":"D22-'H30.9'!D22","v":17},414,{"$f":"F22-'H30.9'!F22","v":12},0]
[null,null,"古城",270,{"$f":"D23-'H30.9'!D23","v":-2},673,{"$f":"F23-'H30.9'!F23","v":-5},29.6]
[null,null,"校区合計",{"$f":"SUM(D11:D23)","v":2222},{"$f":"D24-'H30.9'!D24","v":14},{"$f":"SUM(F11:F23)","v":5096},{"$f":"F24-'H30.9'!F24","v":7},33.1]
[null,"清里","建浜",305,{"$f":"D25-'H30.9'!D25","v":2},784,{"$f":"F25-'H30.9'!F25","v":9},33.299999999999997]
[null,null,"駅通",149,{"$f":"D26-'H30.9'!D26","v":0},340,{"$f":"F26-'H30.9'!F26","v":0},31.2]
[null,null,"梅田",265,{"$f":"D27-'H30.9'!D27","v":2},612,{"$f":"F27-'H30.9'!F27","v":2},39.200000000000003]
[null,null,"校区合計",{"$f":"SUM(D25:D27)","v":719},{"$f":"D28-'H30.9'!D28","v":4},{"$f":"SUM(F25:F27)","v":1736},{"$f":"F28-'H30.9'!F28","v":11},35]
[null,"長洲","出町",215,{"$f":"D29-'H30.9'!D29","v":-1},482,{"$f":"F29-'H30.9'!F29","v":-4},35.5]
[null,null,"新町",154,{"$f":"D30-'H30.9'!D30","v":0},348,{"$f":"F30-'H30.9'!F30","v":2},36.200000000000003]
[null,null,"西新町",36,{"$f":"D31-'H30.9'!D31","v":-1},63,{"$f":"F31-'H30.9'!F31","v":-1},65.099999999999994]
[null,null,"宮ノ町",138,{"$f":"D32-'H30.9'!D32","v":-1},314,{"$f":"F32-'H30.9'!F32","v":-3},32.799999999999997]
[null,null,"松原",107,{"$f":"D33-'H30.9'!D33","v":0},223,{"$f":"F33-'H30.9'!F33","v":3},42.2]
[null,null,"新山",295,{"$f":"D34-'H30.9'!D34","v":0},639,{"$f":"F34-'H30.9'!F34","v":-2},41.3]
[null,null,"宝町",142,{"$f":"D35-'H30.9'!D35","v":0},267,{"$f":"F35-'H30.9'!F35","v":-1},44.9]
[null,null,"磯町",114,{"$f":"D36-'H30.9'!D36","v":-1},215,{"$f":"F36-'H30.9'!F36","v":-1},45.6]
[null,null,"上町",71,{"$f":"D37-'H30.9'!D37","v":2},155,{"$f":"F37-'H30.9'!F37","v":3},43.9]
[null,null,"中町",56,{"$f":"D38-'H30.9'!D38","v":0},125,{"$f":"F38-'H30.9'!F38","v":0},44.8]
[null,null,"下本",47,{"$f":"D39-'H30.9'!D39","v":6},89,{"$f":"F39-'H30.9'!F39","v":0},56.2]
[null,null,"今町",47,{"$f":"D40-'H30.9'!D40","v":0},114,{"$f":"F40-'H30.9'!F40","v":0},45.6]
[null,null,"下東",253,{"$f":"D41-'H30.9'!D41","v":2},605,{"$f":"F41-'H30.9'!F41","v":8},27.6]
[null,null,"西荒神",61,{"$f":"D42-'H30.9'!D42","v":0},141,{"$f":"F42-'H30.9'!F42","v":0},44.7]
[null,null,"東荒神",360,{"$f":"D43-'H30.9'!D43","v":10},831,{"$f":"F43-'H30.9'!F43","v":11},28.8]
[null,null,"大明神",281,{"$f":"D44-'H30.9'!D44","v":-3},620,{"$f":"F44-'H30.9'!F44","v":-4},32.299999999999997]
[null,null,"校区合計",{"$f":"SUM(D29:D44)","v":2377},{"$f":"D45-'H30.9'!D45","v":13},{"$f":"SUM(F29:F44)","v":5231},{"$f":"F45-'H30.9'!F45","v":11},36.6]
[]
[null,"全体",7181,null,16125,null,34]
[null,null,null,"（世帯数）",null,"（人口）",null,"（高齢化率）"]

{"sheet":"H30.9","index":6,"n_rows":48,"n_cols":8,"rows_kept":48,"cut":false,"hidden":false,"merged":[[46,2,46,3],[46,4,46,5],[46,6,46,7],[0,1,0,7],[4,1,9,1],[10,1,23,1],[24,1,27,1],[28,1,44,1]]}
[null,"行政区別の世帯数と人口"]
[null,null,null,null,null,null,"(平成30年9月末日現在)"]
[]
[null,"校区","区名","世帯数","前月比（世帯）","人口","前月比（人）","高齢化率（％）"]
[null,"腹赤","平原",312,{"$f":"D5-'H30.8'!D5","v":-1},668,{"$f":"F5-'H30.8'!F5","v":0},33.5]
[null,null,"清源寺",689,{"$f":"D6-'H30.8'!D6","v":5},1455,{"$f":"F6-'H30.8'!F6","v":6},30.3]
[null,null,"上沖洲",428,{"$f":"D7-'H30.8'!D7","v":25},816,{"$f":"F7-'H30.8'!F7","v":30},32.1]
[null,null,"腹赤",350,{"$f":"D8-'H30.8'!D8","v":-1},910,{"$f":"F8-'H30.8'!F8","v":-4},27.6]
[null,null,"腹赤新町",87,{"$f":"D9-'H30.8'!D9","v":-1},205,{"$f":"F9-'H30.8'!F9","v":-1},44.9]
[null,null,"校区合計",{"$f":"SUM(D5:D9)","v":1866},{"$f":"D10-'H30.8'!D10","v":27},{"$f":"SUM(F5:F9)","v":4054},{"$f":"F10-'H30.8'!F10","v":31},31.3]
[null,"六栄","折地",200,{"$f":"D11-'H30.8'!D11","v":3},473,{"$f":"F11-'H30.8'!F11","v":2},39.299999999999997]
[null,null,"赤崎",122,{"$f":"D12-'H30.8'!D12","v":0},320,{"$f":"F12-'H30.8'!F12","v":0},38.4]
[null,null,"高田",56,{"$f":"D13-'H30.8'!D13","v":0},161,{"$f":"F13-'H30.8'!F13","v":0},26.1]
[null,null,"鷲巣",222,{"$f":"D14-'H30.8'!D14","v":-1},517,{"$f":"F14-'H30.8'!F14","v":0},35]
[null,null,"立野",176,{"$f":"D15-'H30.8'!D15","v":0},362,{"$f":"F15-'H30.8'!F15","v":-1},37.6]
[null,null,"向野",393,{"$f":"D16-'H30.8'!D16","v":0},950,{"$f":"F16-'H30.8'!F16","v":-1},33.6]
[null,null,"宮崎",157,{"$f":"D17-'H30.8'!D17","v":1},380,{"$f":"F17-'H30.8'!F17","v":-1},36.1]
[null,null,"赤田",95,{"$f":"D18-'H30.8'!D18","v":3},224,{"$f":"F18-'H30.8'!F18","v":3},37.1]
[null,null,"葛輪",74,{"$f":"D19-'H30.8'!D19","v":1},176,{"$f":"F19-'H30.8'!F19","v":0},48.3]
[null,null,"永方",103,{"$f":"D20-'H30.8'!D20","v":0},238,{"$f":"F20-'H30.8'!F20","v":0},40.799999999999997]
[null,null,"塩屋",94,{"$f":"D21-'H30.8'!D21","v":0},208,{"$f":"F21-'H30.8'!F21","v":0},45.7]
[null,null,"向野北",244,{"$f":"D22-'H30.8'!D22","v":0},402,{"$f":"F22-'H30.8'!F22","v":-2},0]
[null,null,"古城",272,{"$f":"D23-'H30.8'!D23","v":-1},678,{"$f":"F23-'H30.8'!F23","v":-2},28.9]
[null,null,"校区合計",{"$f":"SUM(D11:D23)","v":2208},{"$f":"D24-'H30.8'!D24","v":6},{"$f":"SUM(F11:F23)","v":5089},{"$f":"F24-'H30.8'!F24","v":-2},33]
[null,"清里","建浜",303,{"$f":"D25-'H30.8'!D25","v":-2},775,{"$f":"F25-'H30.8'!F25","v":-4},33.700000000000003]
[null,null,"駅通",149,{"$f":"D26-'H30.8'!D26","v":1},340,{"$f":"F26-'H30.8'!F26","v":3},30.9]
[null,null,"梅田",263,{"$f":"D27-'H30.8'!D27","v":0},610,{"$f":"F27-'H30.8'!F27","v":-4},39.5]
[null,null,"校区合計",{"$f":"SUM(D25:D27)","v":715},{"$f":"D28-'H30.8'!D28","v":-1},{"$f":"SUM(F25:F27)","v":1725},{"$f":"F28-'H30.8'!F28","v":-5},35.200000000000003]
[null,"長洲","出町",216,{"$f":"D29-'H30.8'!D29","v":-1},486,{"$f":"F29-'H30.8'!F29","v":0},35]
[null,null,"新町",154,{"$f":"D30-'H30.8'!D30","v":1},346,{"$f":"F30-'H30.8'!F30","v":3},36.700000000000003]
[null,null,"西新町",37,{"$f":"D31-'H30.8'!D31","v":0},64,{"$f":"F31-'H30.8'!F31","v":0},65.599999999999994]
[null,null,"宮ノ町",139,{"$f":"D32-'H30.8'!D32","v":-1},317,{"$f":"F32-'H30.8'!F32","v":2},32.5]
[null,null,"松原",107,{"$f":"D33-'H30.8'!D33","v":0},220,{"$f":"F33-'H30.8'!F33","v":1},42.7]
[null,null,"新山",295,{"$f":"D34-'H30.8'!D34","v":-3},641,{"$f":"F34-'H30.8'!F34","v":-5},41.2]
[null,null,"宝町",142,{"$f":"D35-'H30.8'!D35","v":0},268,{"$f":"F35-'H30.8'!F35","v":0},44.4]
[null,null,"磯町",115,{"$f":"D36-'H30.8'!D36","v":-2},216,{"$f":"F36-'H30.8'!F36","v":-4},45.8]
[null,null,"上町",69,{"$f":"D37-'H30.8'!D37","v":0},152,{"$f":"F37-'H30.8'!F37","v":-2},44.1]
[null,null,"中町",56,{"$f":"D38-'H30.8'!D38","v":0},125,{"$f":"F38-'H30.8'!F38","v":0},44.8]
[null,null,"下本",41,{"$f":"D39-'H30.8'!D39","v":0},89,{"$f":"F39-'H30.8'!F39","v":1},56.2]
[null,null,"今町",47,{"$f":"D40-'H30.8'!D40","v":0},114,{"$f":"F40-'H30.8'!F40","v":-1},45.6]
[null,null,"下東",251,{"$f":"D41-'H30.8'!D41","v":-2},597,{"$f":"F41-'H30.8'!F41","v":1},27.8]
[null,null,"西荒神",61,{"$f":"D42-'H30.8'!D42","v":1},141,{"$f":"F42-'H30.8'!F42","v":4},44.7]
[null,null,"東荒神",350,{"$f":"D43-'H30.8'!D43","v":-14},820,{"$f":"F43-'H30.8'!F43","v":-14},29.4]
[null,null,"大明神",284,{"$f":"D44-'H30.8'!D44","v":3},624,{"$f":"F44-'H30.8'!F44","v":2},32.700000000000003]
[null,null,"校区合計",{"$f":"SUM(D29:D44)","v":2364},{"$f":"D45-'H30.8'!D45","v":-18},{"$f":"SUM(F29:F44)","v":5220},{"$f":"F45-'H30.8'!F45","v":-12},36.700000000000003]
[]
[null,"全体",{"$f":"D10+D24+D28+D45","v":7153},null,{"$f":"F10+F24+F28+F45","v":16088},null,34]
[null,null,null,"（世帯数）",null,"（人口）",null,"（高齢化率）"]

{"sheet":"H30.8","index":7,"n_rows":48,"n_cols":8,"rows_kept":48,"cut":false,"hidden":false,"merged":[[46,2,46,3],[46,4,46,5],[46,6,46,7],[0,1,0,7],[4,1,9,1],[10,1,23,1],[24,1,27,1],[28,1,44,1]]}
[null,"行政区別の世帯数と人口"]
[null,null,null,null,null,null,"(平成30年8月末日現在)"]
[]
[null,"校区","区名","世帯数","前月比（世帯）","人口","前月比（人）","高齢化率（％）"]
[null,"腹赤","平原",313,{"$f":"D5-'H30.7'!D5","v":-1},668,{"$f":"F5-'H30.7'!F5","v":-6},33.5]
[null,null,"清源寺",684,{"$f":"D6-'H30.7'!D6","v":2},1449,{"$f":"F6-'H30.7'!F6","v":-6},30.4]
[null,null,"上沖洲",403,{"$f":"D7-'H30.7'!D7","v":2},786,{"$f":"F7-'H30.7'!F7","v":-2},33.1]
[null,null,"腹赤",351,{"$f":"D8-'H30.7'!D8","v":3},914,{"$f":"F8-'H30.7'!F8","v":8},27.6]
[null,null,"腹赤新町",88,{"$f":"D9-'H30.7'!D9","v":0},206,{"$f":"F9-'H30.7'!F9","v":0},44.7]
[null,null,"校区合計",1839,{"$f":"D10-'H30.7'!D10","v":6},4023,{"$f":"F10-'H30.7'!F10","v":-6},31.5]
[null,"六栄","折地",197,{"$f":"D11-'H30.7'!D11","v":1},471,{"$f":"F11-'H30.7'!F11","v":0},39.299999999999997]
[null,null,"赤崎",122,{"$f":"D12-'H30.7'!D12","v":-2},320,{"$f":"F12-'H30.7'!F12","v":-6},38.1]
[null,null,"高田",56,{"$f":"D13-'H30.7'!D13","v":1},161,{"$f":"F13-'H30.7'!F13","v":-1},25.5]
[null,null,"鷲巣",223,{"$f":"D14-'H30.7'!D14","v":1},517,{"$f":"F14-'H30.7'!F14","v":1},34.799999999999997]
[null,null,"立野",176,{"$f":"D15-'H30.7'!D15","v":1},363,{"$f":"F15-'H30.7'!F15","v":4},37.5]
[null,null,"向野",393,{"$f":"D16-'H30.7'!D16","v":1},951,{"$f":"F16-'H30.7'!F16","v":5},33.200000000000003]
[null,null,"宮崎",156,{"$f":"D17-'H30.7'!D17","v":1},381,{"$f":"F17-'H30.7'!F17","v":4},35.4]
[null,null,"赤田",92,{"$f":"D18-'H30.7'!D18","v":1},221,{"$f":"F18-'H30.7'!F18","v":1},37.6]
[null,null,"葛輪",73,{"$f":"D19-'H30.7'!D19","v":0},176,{"$f":"F19-'H30.7'!F19","v":0},48.3]
[null,null,"永方",103,{"$f":"D20-'H30.7'!D20","v":1},238,{"$f":"F20-'H30.7'!F20","v":1},40.299999999999997]
[null,null,"塩屋",94,{"$f":"D21-'H30.7'!D21","v":0},208,{"$f":"F21-'H30.7'!F21","v":-1},45.2]
[null,null,"向野北",244,{"$f":"D22-'H30.7'!D22","v":0},404,{"$f":"F22-'H30.7'!F22","v":2},0]
[null,null,"古城",273,{"$f":"D23-'H30.7'!D23","v":2},680,{"$f":"F23-'H30.7'!F23","v":4},28.5]
[null,null,"校区合計",2202,{"$f":"D24-'H30.7'!D24","v":8},5091,{"$f":"F24-'H30.7'!F24","v":14},32.700000000000003]
[null,"清里","建浜",305,{"$f":"D25-'H30.7'!D25","v":3},779,{"$f":"F25-'H30.7'!F25","v":5},33.5]
[null,null,"駅通",148,{"$f":"D26-'H30.7'!D26","v":4},337,{"$f":"F26-'H30.7'!F26","v":8},31.2]
[null,null,"梅田",263,{"$f":"D27-'H30.7'!D27","v":3},614,{"$f":"F27-'H30.7'!F27","v":-2},39.299999999999997]
[null,null,"校区合計",716,{"$f":"D28-'H30.7'!D28","v":10},1730,{"$f":"F28-'H30.7'!F28","v":11},35.1]
[null,"長洲","出町",217,{"$f":"D29-'H30.7'!D29","v":-1},486,{"$f":"F29-'H30.7'!F29","v":-5},35]
[null,null,"新町",153,{"$f":"D30-'H30.7'!D30","v":-1},343,{"$f":"F30-'H30.7'!F30","v":-1},37.299999999999997]
[null,null,"西新町",37,{"$f":"D31-'H30.7'!D31","v":0},64,{"$f":"F31-'H30.7'!F31","v":0},65.599999999999994]
[null,null,"宮ノ町",140,{"$f":"D32-'H30.7'!D32","v":2},315,{"$f":"F32-'H30.7'!F32","v":7},32.700000000000003]
[null,null,"松原",107,{"$f":"D33-'H30.7'!D33","v":2},219,{"$f":"F33-'H30.7'!F33","v":1},42.9]
[null,null,"新山",298,{"$f":"D34-'H30.7'!D34","v":1},646,{"$f":"F34-'H30.7'!F34","v":-4},41.3]
[null,null,"宝町",142,{"$f":"D35-'H30.7'!D35","v":-1},268,{"$f":"F35-'H30.7'!F35","v":-1},44.4]
[null,null,"磯町",117,{"$f":"D36-'H30.7'!D36","v":0},220,{"$f":"F36-'H30.7'!F36","v":-1},45.9]
[null,null,"上町",69,{"$f":"D37-'H30.7'!D37","v":0},154,{"$f":"F37-'H30.7'!F37","v":0},43.5]
[null,null,"中町",56,{"$f":"D38-'H30.7'!D38","v":0},125,{"$f":"F38-'H30.7'!F38","v":0},44.8]
[null,null,"下本",41,{"$f":"D39-'H30.7'!D39","v":-1},88,{"$f":"F39-'H30.7'!F39","v":-1},55.7]
[null,null,"今町",47,{"$f":"D40-'H30.7'!D40","v":0},115,{"$f":"F40-'H30.7'!F40","v":-1},46.1]
[null,null,"下東",253,{"$f":"D41-'H30.7'!D41","v":0},596,{"$f":"F41-'H30.7'!F41","v":-3},28.2]
[null,null,"西荒神",60,{"$f":"D42-'H30.7'!D42","v":0},137,{"$f":"F42-'H30.7'!F42","v":0},46]
[null,null,"東荒神",364,{"$f":"D43-'H30.7'!D43","v":2},834,{"$f":"F43-'H30.7'!F43","v":20},28.9]
[null,null,"大明神",281,{"$f":"D44-'H30.7'!D44","v":1},622,{"$f":"F44-'H30.7'!F44","v":1},33]
[null,null,"校区合計",2382,{"$f":"D45-'H30.7'!D45","v":4},5232,{"$f":"F45-'H30.7'!F45","v":12},36.799999999999997]
[]
[null,"全体",{"$f":"D10+D24+D28+D45","v":7139},null,{"$f":"F10+F24+F28+F45","v":16076},null,34]
[null,null,null,"（世帯数）",null,"（人口）",null,"（高齢化率）"]

{"sheet":"H30.7","index":8,"n_rows":48,"n_cols":8,"rows_kept":48,"cut":false,"hidden":false,"merged":[[46,2,46,3],[46,4,46,5],[46,6,46,7],[0,1,0,7],[4,1,9,1],[10,1,23,1],[24,1,27,1],[28,1,44,1]]}
[null,"行政区別の世帯数と人口"]
[null,null,null,null,null,null,"(平成30年7月末日現在)"]
[]
[null,"校区","区名","世帯数","前月比（世帯）","人口","前月比（人）","高齢化率（％）"]
[null,"腹赤","平原",314,{"$f":"D5-'H30.6'!D5","v":4},674,{"$f":"F5-'H30.6'!F5","v":6},33.200000000000003]
[null,null,"清源寺",682,{"$f":"D6-'H30.6'!D6","v":-4},1455,{"$f":"F6-'H30.6'!F6","v":-5},30.2]
[null,null,"上沖洲",401,{"$f":"D7-'H30.6'!D7","v":10},788,{"$f":"F7-'H30.6'!F7","v":4},33.1]
[null,null,"腹赤",348,{"$f":"D8-'H30.6'!D8","v":-2},906,{"$f":"F8-'H30.6'!F8","v":-3},27.9]
[null,null,"腹赤新町",88,{"$f":"D9-'H30.6'!D9","v":0},206,{"$f":"F9-'H30.6'!F9","v":0},44.2]
[null,null,"校区合計",{"$f":"SUM(D5:D9)","v":1833},{"$f":"D10-'H30.6'!D10","v":8},{"$f":"SUM(F5:F9)","v":4029},{"$f":"F10-'H30.6'!F10","v":2},31.5]
[null,"六栄","折地",196,{"$f":"D11-'H30.6'!D11","v":1},471,{"$f":"F11-'H30.6'!F11","v":-1},39.299999999999997]
[null,null,"赤崎",124,{"$f":"D12-'H30.6'!D12","v":-1},326,{"$f":"F12-'H30.6'!F12","v":-3},37.700000000000003]
[null,null,"高田",55,{"$f":"D13-'H30.6'!D13","v":-1},162,{"$f":"F13-'H30.6'!F13","v":-1},25.3]
[null,null,"鷲巣",222,{"$f":"D14-'H30.6'!D14","v":0},516,{"$f":"F14-'H30.6'!F14","v":-3},33.9]
[null,null,"立野",175,{"$f":"D15-'H30.6'!D15","v":2},359,{"$f":"F15-'H30.6'!F15","v":2},37.299999999999997]
[null,null,"向野",392,{"$f":"D16-'H30.6'!D16","v":1},946,{"$f":"F16-'H30.6'!F16","v":4},33.200000000000003]
[null,null,"宮崎",155,{"$f":"D17-'H30.6'!D17","v":-2},377,{"$f":"F17-'H30.6'!F17","v":-1},35.799999999999997]
[null,null,"赤田",91,{"$f":"D18-'H30.6'!D18","v":-1},220,{"$f":"F18-'H30.6'!F18","v":-1},37.299999999999997]
[null,null,"葛輪",73,{"$f":"D19-'H30.6'!D19","v":-1},176,{"$f":"F19-'H30.6'!F19","v":-1},47.2]
[null,null,"永方",102,{"$f":"D20-'H30.6'!D20","v":0},237,{"$f":"F20-'H30.6'!F20","v":0},40.5]
[null,null,"塩屋",94,{"$f":"D21-'H30.6'!D21","v":1},209,{"$f":"F21-'H30.6'!F21","v":1},45]
[null,null,"向野北",244,{"$f":"D22-'H30.6'!D22","v":-8},402,{"$f":"F22-'H30.6'!F22","v":-9},0]
[null,null,"古城",271,{"$f":"D23-'H30.6'!D23","v":1},676,{"$f":"F23-'H30.6'!F23","v":2},28.6]
[null,null,"校区合計",{"$f":"SUM(D11:D23)","v":2194},{"$f":"D24-'H30.6'!D24","v":-8},{"$f":"SUM(F11:F23)","v":5077},{"$f":"F24-'H30.6'!F24","v":-11},32.6]
[null,"清里","建浜",302,{"$f":"D25-'H30.6'!D25","v":0},774,{"$f":"F25-'H30.6'!F25","v":5},33.299999999999997]
[null,null,"駅通",144,{"$f":"D26-'H30.6'!D26","v":0},329,{"$f":"F26-'H30.6'!F26","v":1},31.6]
[null,null,"梅田",260,{"$f":"D27-'H30.6'!D27","v":2},616,{"$f":"F27-'H30.6'!F27","v":1},39.1]
[null,null,"校区合計",{"$f":"SUM(D25:D27)","v":706},{"$f":"D28-'H30.6'!D28","v":2},{"$f":"SUM(F25:F27)","v":1719},{"$f":"F28-'H30.6'!F28","v":7},35.1]
[null,"長洲","出町",218,{"$f":"D29-'H30.6'!D29","v":0},491,{"$f":"F29-'H30.6'!F29","v":0},34.799999999999997]
[null,null,"新町",154,{"$f":"D30-'H30.6'!D30","v":-2},344,{"$f":"F30-'H30.6'!F30","v":-5},37.200000000000003]
[null,null,"西新町",37,{"$f":"D31-'H30.6'!D31","v":0},64,{"$f":"F31-'H30.6'!F31","v":0},65.599999999999994]
[null,null,"宮ノ町",138,{"$f":"D32-'H30.6'!D32","v":0},308,{"$f":"F32-'H30.6'!F32","v":1},33.1]
[null,null,"松原",105,{"$f":"D33-'H30.6'!D33","v":0},218,{"$f":"F33-'H30.6'!F33","v":-1},43.1]
[null,null,"新山",297,{"$f":"D34-'H30.6'!D34","v":0},650,{"$f":"F34-'H30.6'!F34","v":1},40.9]
[null,null,"宝町",143,{"$f":"D35-'H30.6'!D35","v":0},269,{"$f":"F35-'H30.6'!F35","v":-2},44.6]
[null,null,"磯町",117,{"$f":"D36-'H30.6'!D36","v":1},221,{"$f":"F36-'H30.6'!F36","v":-1},45.7]
[null,null,"上町",69,{"$f":"D37-'H30.6'!D37","v":0},154,{"$f":"F37-'H30.6'!F37","v":2},42.2]
[null,null,"中町",56,{"$f":"D38-'H30.6'!D38","v":0},125,{"$f":"F38-'H30.6'!F38","v":1},44.8]
[null,null,"下本",42,{"$f":"D39-'H30.6'!D39","v":0},89,{"$f":"F39-'H30.6'!F39","v":0},55.1]
[null,null,"今町",47,{"$f":"D40-'H30.6'!D40","v":0},116,{"$f":"F40-'H30.6'!F40","v":0},45.7]
[null,null,"下東",253,{"$f":"D41-'H30.6'!D41","v":-2},599,{"$f":"F41-'H30.6'!F41","v":-7},27.9]
[null,null,"西荒神",60,{"$f":"D42-'H30.6'!D42","v":-1},137,{"$f":"F42-'H30.6'!F42","v":0},45.3]
[null,null,"東荒神",362,{"$f":"D43-'H30.6'!D43","v":11},814,{"$f":"F43-'H30.6'!F43","v":10},29.4]
[null,null,"大明神",280,{"$f":"D44-'H30.6'!D44","v":0},621,{"$f":"F44-'H30.6'!F44","v":-5},32.9]
[null,null,"校区合計",{"$f":"SUM(D29:D44)","v":2378},{"$f":"D45-'H30.6'!D45","v":7},{"$f":"SUM(F29:F44)","v":5220},{"$f":"F45-'H30.6'!F45","v":-6},36.799999999999997]
[]
[null,"全体",7111,null,{"$f":"F10+F24+F28+F45","v":16045},null,33.9]
[null,null,null,"（世帯数）",null,"（人口）",null,"（高齢化率）"]

{"sheet":"H30.6","index":9,"n_rows":48,"n_cols":8,"rows_kept":48,"cut":false,"hidden":false,"merged":[[46,2,46,3],[46,4,46,5],[46,6,46,7],[0,1,0,7],[4,1,9,1],[10,1,23,1],[24,1,27,1],[28,1,44,1]]}
[null,"行政区別の世帯数と人口"]
[null,null,null,null,null,null,"(平成30年6月末日現在)"]
[]
[null,"校区","区名","世帯数","前月比（世帯）","人口","前月比（人）","高齢化率（％）"]
[null,"腹赤","平原",310,{"$f":"D5-'H30.5'!D5","v":0},668,{"$f":"F5-'H30.5'!F5","v":7},33.4]
[null,null,"清源寺",686,{"$f":"D6-'H30.5'!D6","v":-5},1460,{"$f":"F6-'H30.5'!F6","v":-11},30]
[null,null,"上沖洲",391,{"$f":"D7-'H30.5'!D7","v":4},784,{"$f":"F7-'H30.5'!F7","v":4},33.4]
[null,null,"腹赤",350,{"$f":"D8-'H30.5'!D8","v":5},909,{"$f":"F8-'H30.5'!F8","v":10},27.8]
[null,null,"腹赤新町",88,{"$f":"D9-'H30.5'!D9","v":-2},206,{"$f":"F9-'H30.5'!F9","v":-1},43.7]
[null,null,"校区合計",{"$f":"SUM(D5:D9)","v":1825},{"$f":"D10-'H30.5'!D10","v":2},{"$f":"SUM(F5:F9)","v":4027},{"$f":"F10-'H30.5'!F10","v":9},31.4]
[null,"六栄","折地",195,{"$f":"D11-'H30.5'!D11","v":-1},472,{"$f":"F11-'H30.5'!F11","v":-1},39]
[null,null,"赤崎",125,{"$f":"D12-'H30.5'!D12","v":0},329,{"$f":"F12-'H30.5'!F12","v":0},36.799999999999997]
[null,null,"高田",56,{"$f":"D13-'H30.5'!D13","v":0},163,{"$f":"F13-'H30.5'!F13","v":-1},25.8]
[null,null,"鷲巣",222,{"$f":"D14-'H30.5'!D14","v":2},519,{"$f":"F14-'H30.5'!F14","v":0},32.799999999999997]
[null,null,"立野",173,{"$f":"D15-'H30.5'!D15","v":1},357,{"$f":"F15-'H30.5'!F15","v":1},37]
[null,null,"向野",391,{"$f":"D16-'H30.5'!D16","v":1},942,{"$f":"F16-'H30.5'!F16","v":-1},33.5]
[null,null,"宮崎",157,{"$f":"D17-'H30.5'!D17","v":-1},378,{"$f":"F17-'H30.5'!F17","v":0},35.4]
[null,null,"赤田",92,{"$f":"D18-'H30.5'!D18","v":-4},221,{"$f":"F18-'H30.5'!F18","v":-5},37.1]
[null,null,"葛輪",74,{"$f":"D19-'H30.5'!D19","v":0},177,{"$f":"F19-'H30.5'!F19","v":0},47.5]
[null,null,"永方",102,{"$f":"D20-'H30.5'!D20","v":0},237,{"$f":"F20-'H30.5'!F20","v":0},40.5]
[null,null,"塩屋",93,{"$f":"D21-'H30.5'!D21","v":0},208,{"$f":"F21-'H30.5'!F21","v":-1},45.2]
[null,null,"向野北",252,{"$f":"D22-'H30.5'!D22","v":-1},411,{"$f":"F22-'H30.5'!F22","v":-2},0]
[null,null,"古城",270,{"$f":"D23-'H30.5'!D23","v":0},674,{"$f":"F23-'H30.5'!F23","v":-3},28.3]
[null,null,"校区合計",{"$f":"SUM(D11:D23)","v":2202},{"$f":"D24-'H30.5'!D24","v":-3},{"$f":"SUM(F11:F23)","v":5088},{"$f":"F24-'H30.5'!F24","v":-13},32.4]
[null,"清里","建浜",302,{"$f":"D25-'H30.5'!D25","v":6},769,{"$f":"F25-'H30.5'!F25","v":9},33.299999999999997]
[null,null,"駅通",144,{"$f":"D26-'H30.5'!D26","v":2},328,{"$f":"F26-'H30.5'!F26","v":2},31.4]
[null,null,"梅田",258,{"$f":"D27-'H30.5'!D27","v":-1},615,{"$f":"F27-'H30.5'!F27","v":-3},39]
[null,null,"校区合計",{"$f":"SUM(D25:D27)","v":704},{"$f":"D28-'H30.5'!D28","v":7},{"$f":"SUM(F25:F27)","v":1712},{"$f":"F28-'H30.5'!F28","v":8},35]
[null,"長洲","出町",218,{"$f":"D29-'H30.5'!D29","v":1},491,{"$f":"F29-'H30.5'!F29","v":0},34.799999999999997]
[null,null,"新町",156,{"$f":"D30-'H30.5'!D30","v":-1},349,{"$f":"F30-'H30.5'!F30","v":-1},36.700000000000003]
[null,null,"西新町",37,{"$f":"D31-'H30.5'!D31","v":0},64,{"$f":"F31-'H30.5'!F31","v":0},65.599999999999994]
[null,null,"宮ノ町",138,{"$f":"D32-'H30.5'!D32","v":-3},307,{"$f":"F32-'H30.5'!F32","v":-3},32.9]
[null,null,"松原",105,{"$f":"D33-'H30.5'!D33","v":1},219,{"$f":"F33-'H30.5'!F33","v":1},42.9]
[null,null,"新山",297,{"$f":"D34-'H30.5'!D34","v":1},649,{"$f":"F34-'H30.5'!F34","v":1},41]
[null,null,"宝町",143,{"$f":"D35-'H30.5'!D35","v":0},271,{"$f":"F35-'H30.5'!F35","v":1},45]
[null,null,"磯町",116,{"$f":"D36-'H30.5'!D36","v":0},222,{"$f":"F36-'H30.5'!F36","v":0},45.9]
[null,null,"上町",69,{"$f":"D37-'H30.5'!D37","v":0},152,{"$f":"F37-'H30.5'!F37","v":0},43.4]
[null,null,"中町",56,{"$f":"D38-'H30.5'!D38","v":0},124,{"$f":"F38-'H30.5'!F38","v":0},45.2]
[null,null,"下本",42,{"$f":"D39-'H30.5'!D39","v":0},89,{"$f":"F39-'H30.5'!F39","v":0},55.1]
[null,null,"今町",47,{"$f":"D40-'H30.5'!D40","v":0},116,{"$f":"F40-'H30.5'!F40","v":0},45.7]
[null,null,"下東",255,{"$f":"D41-'H30.5'!D41","v":-2},606,{"$f":"F41-'H30.5'!F41","v":-9},27.4]
[null,null,"西荒神",61,{"$f":"D42-'H30.5'!D42","v":0},137,{"$f":"F42-'H30.5'!F42","v":-1},46]
[null,null,"東荒神",351,{"$f":"D43-'H30.5'!D43","v":-1},804,{"$f":"F43-'H30.5'!F43","v":-4},30]
[null,null,"大明神",280,{"$f":"D44-'H30.5'!D44","v":3},626,{"$f":"F44-'H30.5'!F44","v":0},32.6]
[null,null,"校区合計",{"$f":"SUM(D29:D44)","v":2371},{"$f":"D45-'H30.5'!D45","v":-1},{"$f":"SUM(F29:F44)","v":5226},{"$f":"F45-'H30.5'!F45","v":-15},36.799999999999997]
[]
[null,"全体",7102,null,{"$f":"F10+F24+F28+F45","v":16053},null,33.9]
[null,null,null,"（世帯数）",null,"（人口）",null,"（高齢化率）"]

{"sheet":"H30.5","index":10,"n_rows":48,"n_cols":8,"rows_kept":48,"cut":false,"hidden":false,"merged":[[46,2,46,3],[46,4,46,5],[46,6,46,7],[0,1,0,7],[4,1,9,1],[10,1,23,1],[24,1,27,1],[28,1,44,1]]}
[null,"行政区別の世帯数と人口"]
[null,null,null,null,null,null,"(平成30年5月末日現在)"]
[]
[null,"校区","区名","世帯数","前月比（世帯）","人口","前月比（人）","高齢化率（％）"]
[null,"腹赤","平原",310,{"$f":"D5-'H30.4'!D5","v":-2},661,{"$f":"F5-'H30.4'!F5","v":-5},33.6]
[null,null,"清源寺",691,{"$f":"D6-'H30.4'!D6","v":-2},1471,{"$f":"F6-'H30.4'!F6","v":-1},29.6]
[null,null,"上沖洲",387,{"$f":"D7-'H30.4'!D7","v":-1},780,{"$f":"F7-'H30.4'!F7","v":-5},33.200000000000003]
[null,null,"腹赤",345,{"$f":"D8-'H30.4'!D8","v":2},899,{"$f":"F8-'H30.4'!F8","v":7},27.8]
[null,null,"腹赤新町",90,{"$f":"D9-'H30.4'!D9","v":1},207,{"$f":"F9-'H30.4'!F9","v":-2},43.5]
[null,null,"校区合計",{"$f":"SUM(D5:D9)","v":1823},{"$f":"D10-'H30.4'!D10","v":-2},{"$f":"SUM(F5:F9)","v":4018},{"$f":"F10-'H30.4'!F10","v":-6},31.3]
[null,"六栄","折地",196,{"$f":"D11-'H30.4'!D11","v":0},473,{"$f":"F11-'H30.4'!F11","v":-2},38.9]
[null,null,"赤崎",125,{"$f":"D12-'H30.4'!D12","v":0},329,{"$f":"F12-'H30.4'!F12","v":0},36.799999999999997]
[null,null,"高田",56,{"$f":"D13-'H30.4'!D13","v":0},164,{"$f":"F13-'H30.4'!F13","v":0},25.6]
[null,null,"鷲巣",220,{"$f":"D14-'H30.4'!D14","v":0},519,{"$f":"F14-'H30.4'!F14","v":-2},32.4]
[null,null,"立野",172,{"$f":"D15-'H30.4'!D15","v":1},356,{"$f":"F15-'H30.4'!F15","v":0},37.1]
[null,null,"向野",390,{"$f":"D16-'H30.4'!D16","v":-1},943,{"$f":"F16-'H30.4'!F16","v":0},33.5]
[null,null,"宮崎",158,{"$f":"D17-'H30.4'!D17","v":1},378,{"$f":"F17-'H30.4'!F17","v":-2},35.4]
[null,null,"赤田",96,{"$f":"D18-'H30.4'!D18","v":-3},226,{"$f":"F18-'H30.4'!F18","v":-4},36.299999999999997]
[null,null,"葛輪",74,{"$f":"D19-'H30.4'!D19","v":0},177,{"$f":"F19-'H30.4'!F19","v":-1},47.5]
[null,null,"永方",102,{"$f":"D20-'H30.4'!D20","v":-2},237,{"$f":"F20-'H30.4'!F20","v":-2},40.5]
[null,null,"塩屋",93,{"$f":"D21-'H30.4'!D21","v":0},209,{"$f":"F21-'H30.4'!F21","v":0},45.5]
[null,null,"向野北",253,{"$f":"D22-'H30.4'!D22","v":45},413,{"$f":"F22-'H30.4'!F22","v":49},0]
[null,null,"古城",270,{"$f":"D23-'H30.4'!D23","v":-1},677,{"$f":"F23-'H30.4'!F23","v":0},28.5]
[null,null,"校区合計",{"$f":"SUM(D11:D23)","v":2205},{"$f":"D24-'H30.4'!D24","v":40},{"$f":"SUM(F11:F23)","v":5101},{"$f":"F24-'H30.4'!F24","v":36},32.299999999999997]
[null,"清里","建浜",296,{"$f":"D25-'H30.4'!D25","v":1},760,{"$f":"F25-'H30.4'!F25","v":0},33.700000000000003]
[null,null,"駅通",142,{"$f":"D26-'H30.4'!D26","v":-2},326,{"$f":"F26-'H30.4'!F26","v":-2},31.9]
[null,null,"梅田",259,{"$f":"D27-'H30.4'!D27","v":-2},618,{"$f":"F27-'H30.4'!F27","v":1},39]
[null,null,"校区合計",{"$f":"SUM(D25:D27)","v":697},{"$f":"D28-'H30.4'!D28","v":-3},{"$f":"SUM(F25:F27)","v":1704},{"$f":"F28-'H30.4'!F28","v":-1},35.299999999999997]
[null,"長洲","出町",217,{"$f":"D29-'H30.4'!D29","v":-1},491,{"$f":"F29-'H30.4'!F29","v":0},35]
[null,null,"新町",157,{"$f":"D30-'H30.4'!D30","v":3},350,{"$f":"F30-'H30.4'!F30","v":4},36.6]
[null,null,"西新町",37,{"$f":"D31-'H30.4'!D31","v":-1},64,{"$f":"F31-'H30.4'!F31","v":-2},65.599999999999994]
[null,null,"宮ノ町",141,{"$f":"D32-'H30.4'!D32","v":3},310,{"$f":"F32-'H30.4'!F32","v":-2},32.6]
[null,null,"松原",104,{"$f":"D33-'H30.4'!D33","v":0},218,{"$f":"F33-'H30.4'!F33","v":-1},43.1]
[null,null,"新山",296,{"$f":"D34-'H30.4'!D34","v":0},648,{"$f":"F34-'H30.4'!F34","v":0},40.700000000000003]
[null,null,"宝町",143,{"$f":"D35-'H30.4'!D35","v":0},270,{"$f":"F35-'H30.4'!F35","v":0},44.8]
[null,null,"磯町",116,{"$f":"D36-'H30.4'!D36","v":-1},222,{"$f":"F36-'H30.4'!F36","v":-3},45.9]
[null,null,"上町",69,{"$f":"D37-'H30.4'!D37","v":0},152,{"$f":"F37-'H30.4'!F37","v":0},43.4]
[null,null,"中町",56,{"$f":"D38-'H30.4'!D38","v":0},124,{"$f":"F38-'H30.4'!F38","v":-1},45.2]
[null,null,"下本",42,{"$f":"D39-'H30.4'!D39","v":0},89,{"$f":"F39-'H30.4'!F39","v":0},55.1]
[null,null,"今町",47,{"$f":"D40-'H30.4'!D40","v":0},116,{"$f":"F40-'H30.4'!F40","v":0},45.7]
[null,null,"下東",257,{"$f":"D41-'H30.4'!D41","v":3},615,{"$f":"F41-'H30.4'!F41","v":0},27]
[null,null,"西荒神",61,{"$f":"D42-'H30.4'!D42","v":0},138,{"$f":"F42-'H30.4'!F42","v":0},45.7]
[null,null,"東荒神",352,{"$f":"D43-'H30.4'!D43","v":-2},808,{"$f":"F43-'H30.4'!F43","v":0},29.8]
[null,null,"大明神",277,{"$f":"D44-'H30.4'!D44","v":3},626,{"$f":"F44-'H30.4'!F44","v":2},31.9]
[null,null,"校区合計",{"$f":"SUM(D29:D44)","v":2372},{"$f":"D45-'H30.4'!D45","v":7},{"$f":"SUM(F29:F44)","v":5241},{"$f":"F45-'H30.4'!F45","v":-3},36.6]
[]
[null,"全体",7096,null,{"$f":"F10+F24+F28+F45","v":16064},null,33.799999999999997]
[null,null,null,"（世帯数）",null,"（人口）",null,"（高齢化率）"]

{"sheet":"H30.4","index":11,"n_rows":48,"n_cols":8,"rows_kept":48,"cut":false,"hidden":false,"merged":[[46,6,46,7],[0,1,0,7],[4,1,9,1],[28,1,44,1],[10,1,23,1],[24,1,27,1],[46,4,46,5],[46,2,46,3]]}
[null,"行政区別の世帯数と人口"]
[null,null,null,null,null,null,"(平成30年4月末日現在)"]
[]
[null,"校区","区名","世帯数","前月比（世帯）","人口","前月比（人）","高齢化率（％）"]
[null,"腹赤","平原",312,{"$f":"D5-'H30.3'!D5","v":-2},666,{"$f":"F5-'H30.3'!F5","v":-6},33.299999999999997]
[null,null,"清源寺",693,{"$f":"D6-'H30.3'!D6","v":24},1472,{"$f":"F6-'H30.3'!F6","v":21},29.3]
[null,null,"上沖洲",388,{"$f":"D7-'H30.3'!D7","v":0},785,{"$f":"F7-'H30.3'!F7","v":-1},33.1]
[null,null,"腹赤",343,{"$f":"D8-'H30.3'!D8","v":-1},892,{"$f":"F8-'H30.3'!F8","v":0},27.9]
[null,null,"腹赤新町",89,{"$f":"D9-'H30.3'!D9","v":-1},209,{"$f":"F9-'H30.3'!F9","v":-1},43.1]
[null,null,"校区合計",{"$f":"SUM(D5:D9)","v":1825},{"$f":"D10-'H30.3'!D10","v":20},{"$f":"SUM(F5:F9)","v":4024},{"$f":"F10-'H30.3'!F10","v":13},31.1]
[null,"六栄","折地",196,{"$f":"D11-'H30.3'!D11","v":2},475,{"$f":"F11-'H30.3'!F11","v":7},39.200000000000003]
[null,null,"赤崎",125,{"$f":"D12-'H30.3'!D12","v":-1},329,{"$f":"F12-'H30.3'!F12","v":-6},36.799999999999997]
[null,null,"高田",56,{"$f":"D13-'H30.3'!D13","v":0},164,{"$f":"F13-'H30.3'!F13","v":1},25.6]
[null,null,"鷲巣",220,{"$f":"D14-'H30.3'!D14","v":2},521,{"$f":"F14-'H30.3'!F14","v":1},32.4]
[null,null,"立野",171,{"$f":"D15-'H30.3'!D15","v":1},356,{"$f":"F15-'H30.3'!F15","v":0},36.5]
[null,null,"向野",391,{"$f":"D16-'H30.3'!D16","v":4},943,{"$f":"F16-'H30.3'!F16","v":6},33.6]
[null,null,"宮崎",157,{"$f":"D17-'H30.3'!D17","v":0},380,{"$f":"F17-'H30.3'!F17","v":-1},35.5]
[null,null,"赤田",99,{"$f":"D18-'H30.3'!D18","v":1},230,{"$f":"F18-'H30.3'!F18","v":2},36.5]
[null,null,"葛輪",74,{"$f":"D19-'H30.3'!D19","v":1},178,{"$f":"F19-'H30.3'!F19","v":4},47.2]
[null,null,"永方",104,{"$f":"D20-'H30.3'!D20","v":0},239,{"$f":"F20-'H30.3'!F20","v":-1},41]
[null,null,"塩屋",93,{"$f":"D21-'H30.3'!D21","v":2},209,{"$f":"F21-'H30.3'!F21","v":4},45]
[null,null,"向野北",208,{"$f":"D22-'H30.3'!D22","v":-37},364,{"$f":"F22-'H30.3'!F22","v":-41},0]
[null,null,"古城",271,{"$f":"D23-'H30.3'!D23","v":5},677,{"$f":"F23-'H30.3'!F23","v":1},28.5]
[null,null,"校区合計",{"$f":"SUM(D11:D23)","v":2165},{"$f":"D24-'H30.3'!D24","v":-20},{"$f":"SUM(F11:F23)","v":5065},{"$f":"F24-'H30.3'!F24","v":-23},32.6]
[null,"清里","建浜",295,{"$f":"D25-'H30.3'!D25","v":-4},760,{"$f":"F25-'H30.3'!F25","v":-2},33.700000000000003]
[null,null,"駅通",144,{"$f":"D26-'H30.3'!D26","v":5},328,{"$f":"F26-'H30.3'!F26","v":8},31.7]
[null,null,"梅田",261,{"$f":"D27-'H30.3'!D27","v":-1},617,{"$f":"F27-'H30.3'!F27","v":-5},39.4]
[null,null,"校区合計",{"$f":"SUM(D25:D27)","v":700},{"$f":"D28-'H30.3'!D28","v":0},{"$f":"SUM(F25:F27)","v":1705},{"$f":"F28-'H30.3'!F28","v":1},35.4]
[null,"長洲","出町",218,{"$f":"D29-'H30.3'!D29","v":-1},491,{"$f":"F29-'H30.3'!F29","v":-2},35]
[null,null,"新町",154,{"$f":"D30-'H30.3'!D30","v":0},346,{"$f":"F30-'H30.3'!F30","v":-1},37]
[null,null,"西新町",38,{"$f":"D31-'H30.3'!D31","v":0},66,{"$f":"F31-'H30.3'!F31","v":0},63.6]
[null,null,"宮ノ町",138,{"$f":"D32-'H30.3'!D32","v":1},312,{"$f":"F32-'H30.3'!F32","v":3},32.4]
[null,null,"松原",104,{"$f":"D33-'H30.3'!D33","v":0},219,{"$f":"F33-'H30.3'!F33","v":-2},42.9]
[null,null,"新山",296,{"$f":"D34-'H30.3'!D34","v":3},648,{"$f":"F34-'H30.3'!F34","v":2},40.700000000000003]
[null,null,"宝町",143,{"$f":"D35-'H30.3'!D35","v":0},270,{"$f":"F35-'H30.3'!F35","v":3},44.8]
[null,null,"磯町",117,{"$f":"D36-'H30.3'!D36","v":0},225,{"$f":"F36-'H30.3'!F36","v":0},45.3]
[null,null,"上町",69,{"$f":"D37-'H30.3'!D37","v":0},152,{"$f":"F37-'H30.3'!F37","v":1},43.4]
[null,null,"中町",56,{"$f":"D38-'H30.3'!D38","v":0},125,{"$f":"F38-'H30.3'!F38","v":0},44.8]
[null,null,"下本",42,{"$f":"D39-'H30.3'!D39","v":0},89,{"$f":"F39-'H30.3'!F39","v":0},55.1]
[null,null,"今町",47,{"$f":"D40-'H30.3'!D40","v":0},116,{"$f":"F40-'H30.3'!F40","v":1},45.7]
[null,null,"下東",254,{"$f":"D41-'H30.3'!D41","v":3},615,{"$f":"F41-'H30.3'!F41","v":10},27.2]
[null,null,"西荒神",61,{"$f":"D42-'H30.3'!D42","v":0},138,{"$f":"F42-'H30.3'!F42","v":0},45.7]
[null,null,"東荒神",354,{"$f":"D43-'H30.3'!D43","v":-4},808,{"$f":"F43-'H30.3'!F43","v":-12},29.8]
[null,null,"大明神",274,{"$f":"D44-'H30.3'!D44","v":-1},624,{"$f":"F44-'H30.3'!F44","v":-5},31.9]
[null,null,"校区合計",{"$f":"SUM(D29:D44)","v":2365},{"$f":"D45-'H30.3'!D45","v":1},{"$f":"SUM(F29:F44)","v":5244},{"$f":"F45-'H30.3'!F45","v":-2},36.6]
[]
[null,"全体",{"$f":"D10+D24+D28+D45","v":7055},null,{"$f":"F10+F24+F28+F45","v":16038},null,33.799999999999997]
[null,null,null,"（世帯数）",null,"（人口）",null,"（高齢化率）"]

{"sheet":"H30.3","index":12,"n_rows":51,"n_cols":9,"rows_kept":51,"cut":false,"hidden":false,"merged":[[50,6,50,8],[0,1,0,8],[4,1,9,1],[10,1,23,1],[24,1,27,1],[28,1,44,1]]}
[null,"行政区別の世帯数と人□"]
[]
[]
[null,"校区","区名","世帯数","前月比（世帯）","人口","前月比（人）"]
[null,"腹赤","平原",314,"-",672,"-"]
[null,null,"清源寺",669,"-",1451,"-"]
[null,null,"上沖洲",388,"-",786,"-"]
[null,null,"腹赤",344,"-",892,"-"]
[null,null,"腹赤新町",90,"-",210,"-"]
[null,null,"校区合計",{"$f":"SUM(D5:D9)","v":1805},"-",{"$f":"SUM(F5:F9)","v":4011},"-"]
[null,"六栄","折地",194,"-",468,"-"]
[null,null,"赤崎",126,"-",335,"-"]
[null,null,"高田",56,"-",163,"-"]
[null,null,"鷲巣",218,"-",520,"-"]
[null,null,"立野",170,"-",356,"-"]
[null,null,"向野",387,"-",937,"-"]
[null,null,"宮崎",157,"-",381,"-"]
[null,null,"赤田",98,"-",228,"-"]
[null,null,"葛輪",73,"-",174,"-"]
[null,null,"永方",104,"-",240,"-"]
[null,null,"塩屋",91,"-",205,"-"]
[null,null,"向野北",245,"-",405,"-"]
[null,null,"古城",266,"-",676,"-"]
[null,null,"校区合計",{"$f":"SUM(D11:D23)","v":2185},"-",{"$f":"SUM(F11:F23)","v":5088},"-"]
[null,"清里","建浜",299,"-",762,"-"]
[null,null,"駅通",139,"-",320,"-"]
[null,null,"梅田",262,"-",622,"-"]
[null,null,"校区合計",{"$f":"SUM(D25:D27)","v":700},"-",{"$f":"SUM(F25:F27)","v":1704},"-"]
[null,"長洲","出町",219,"-",493,"-"]
[null,null,"新町",154,"-",347,"-"]
[null,null,"西新町",38,"-",66,"-"]
[null,null,"宮ノ町",137,"-",309,"-"]
[null,null,"松原",104,"-",221,"-"]
[null,null,"新山",293,"-",646,"-"]
[null,null,"宝町",143,"-",267,"-"]
[null,null,"磯町",117,"-",225,"-"]
[null,null,"上町",69,"-",151,"-"]
[null,null,"中町",56,"-",125,"-"]
[null,null,"下本",42,"-",89,"-"]
[null,null,"今町",47,"-",115,"-"]
[null,null,"下東",251,"-",605,"-"]
[null,null,"西荒神",61,"-",138,"-"]
[null,null,"東荒神",358,"-",820,"-"]
[null,null,"大明神",275,"-",629,"-"]
[null,null,"校区合計",{"$f":"SUM(D29:D44)","v":2364},"-",{"$f":"SUM(F29:F44)","v":5246},"-"]
[]
[]
[]
[null,null,null,null,null,null,"計",{"$f":"D10+D24+D28+D45","v":7054},{"$f":"F10+F24+F28+F45","v":16049}]
[]
[null,null,null,null,null,null,"(平成30年3月31日現在)"]